BEGIN:VCALENDAR
VERSION:2.0
PRODID:-//Philosophie et Management - ECPv6.9.1//NONSGML v1.0//EN
CALSCALE:GREGORIAN
METHOD:PUBLISH
X-WR-CALNAME:Philosophie et Management
X-ORIGINAL-URL:https://philoma.org
X-WR-CALDESC:Évènements pour Philosophie et Management
REFRESH-INTERVAL;VALUE=DURATION:PT1H
X-Robots-Tag:noindex
X-PUBLISHED-TTL:PT1H
BEGIN:VTIMEZONE
TZID:Europe/Brussels
BEGIN:DAYLIGHT
TZOFFSETFROM:+0100
TZOFFSETTO:+0200
TZNAME:CEST
DTSTART:20180325T010000
END:DAYLIGHT
BEGIN:STANDARD
TZOFFSETFROM:+0200
TZOFFSETTO:+0100
TZNAME:CET
DTSTART:20181028T010000
END:STANDARD
END:VTIMEZONE
BEGIN:VEVENT
DTSTART;TZID=Europe/Brussels:20180516T190000
DTEND;TZID=Europe/Brussels:20180516T223000
DTSTAMP:20260422T024545
CREATED:20190219T083521Z
LAST-MODIFIED:20190322T164743Z
UID:34828-1526497200-1526509800@philoma.org
SUMMARY:Collaborative Advantage: How can collaboration beat competition as a strategy for success? With Paul Skinner
DESCRIPTION:When: From 19:30 till 22:30 (doors open at 19:00)\n \nWhere: Maison ND du Chant d’Oiseau\, 3A\, Avenue des Franciscains à 1150 Woluwé-Saint-Pierre. \nParticipation to costs & registration \nSee also the full day seminar with Paul on May 17th. \nHow can we find purpose at work? How can we lead with purpose? How can we enable our customers to find purpose in what we offer? And could ‘Competitive Advantage’\, the dominant idea in business strategy\, be actively holding us back from achieving these things? \nStrategic consultant and social entrepreneur Paul Skinner demonstrates in his forthcoming book how you can use the alternative model of Collaborative Advantage to drive a greater level of success that is better for you\, better for your customers\, and better for society. \nPaul will give a first-hand account of what he has learned in writing the book. He will explain how you can Create Collaborative Advantage to restore human purpose to organisational strategy and re-awaken our innate capacity for cooperation as the best means of fulfilling that purpose. The talk will include techniques to: \n\nMobilise staff\, customers\, partners and stakeholders around a common purpose that gets everyone you need firmly on your side.\nNurture improved innovation; reach more customers or beneficiaries; build greater loyalty; generate greater income; and forge more ambitious partnerships.\nDe-couple your potential for growth from the level of human and financial resource your organisation controls.\n\nThe insights he has developed in writing the book will help you to radically accelerate the growth of your business or the impact of your non-profit\, by bringing the fuller\, value-creating potential of the outside world inside your organisation. \nPraise for Collaborative Advantage\, Paul’s new book: \n‘A valuable contribution to the vital task of getting people to see the business world as a complex\, interconnected ecosystem rather than as a sharp-elbowed race to the bottom.’ \nRory Sutherland \nVice-Chairman of Ogilvy Group \n‘A refreshing and optimistic take on the opportunities Collaborative Advantage can open up for business. Paul Skinner speaks from experience….and it shows.’ Paul George Senior Partner and Head of International Development\, PwC ‘This is a profound provocation as to the imperative of a collaborative mindset in an ever more volatile world. Paul has defined a model\, and brought it to life with a wide variety of helpful examples\, making it applicable to almost any challenge a business or brand might face.’ \nMark Evans \nChief Marketing Officer\, Direct Line Group \n  \n\n\n\n\n\n	\n	\n	\n	\n	\n		\n	\n  	\n      Paul Skinner\n      Paul Skinner is the author of Collaborative Advantage: How collaboration beats competition as a strategy for success\, which will be published by Little\, Brown Book Group in June 2018. He is the founder of the Agency of the Future\, which helps clients and partners create Collaborative Advantage to drive organisational success\, create economic value and improve peoples’ lives.
URL:https://philoma.org/evenement/collaborative-advantage-how-can-collaboration-beat-competition-as-a-strategy-for-success-with-paul-skinner/
LOCATION:Maison ND du Chant d’Oiseau\, 3A\, Avenue des Franciscains\, Woluwé-Saint-Pierre (Bruxelles)\, 1150\, Belgique
CATEGORIES:PhiloMa,rencontre,séance inaugurale
END:VEVENT
END:VCALENDAR