BEGIN:VCALENDAR
VERSION:2.0
PRODID:-//Philosophie et Management - ECPv6.9.1//NONSGML v1.0//EN
CALSCALE:GREGORIAN
METHOD:PUBLISH
X-WR-CALNAME:Philosophie et Management
X-ORIGINAL-URL:https://philoma.org
X-WR-CALDESC:Évènements pour Philosophie et Management
REFRESH-INTERVAL;VALUE=DURATION:PT1H
X-Robots-Tag:noindex
X-PUBLISHED-TTL:PT1H
BEGIN:VTIMEZONE
TZID:Europe/Brussels
BEGIN:DAYLIGHT
TZOFFSETFROM:+0100
TZOFFSETTO:+0200
TZNAME:CEST
DTSTART:20180325T010000
END:DAYLIGHT
BEGIN:STANDARD
TZOFFSETFROM:+0200
TZOFFSETTO:+0100
TZNAME:CET
DTSTART:20181028T010000
END:STANDARD
END:VTIMEZONE
BEGIN:VEVENT
DTSTART;TZID=Europe/Brussels:20180517T090000
DTEND;TZID=Europe/Brussels:20180517T160000
DTSTAMP:20260421T123018
CREATED:20190219T084052Z
LAST-MODIFIED:20190322T164734Z
UID:34835-1526547600-1526572800@philoma.org
SUMMARY:Collaborative Advantage: How to put it in place in your own organization? With Paul Skinner
DESCRIPTION:When: From 09:00 till 16:30\n \nWhere: Maison ND du Chant d’Oiseau\, 3A\, Avenue des Franciscains à 1150 Woluwé-Saint-Pierre. \nParticipation to costs & registration : 395 euros htva \nTo register\, send an email to ledoux.laurent@gmail.com & Mary Wigny (secretariat.ledoux@outlook.be)\nThe number of seats being limited\, please book before 01/05. \nDuring this day you will have the opportunity to: \n–   Dive more deeply into the idea of Collaborative Advantage: why it is a better goal for business; how it can be created; and what it can enable you to achieve in practice. \n–   Relate the concept to your own work and to the work of your peers in the group. \n–   Understand and apply the Outside In framework to increase business value by involving all stakeholders inside and outside the business in maximising Collaborative Advantage in pursuit of a common purpose. \nIt is recommended to participants in the workshop of the 17th to also attend the introductory talk on the 16th. Signed copies of Paul’s book will be given to participants in the workshop of the 17th\, in advance of the book’s publication on the 22nd of June. \n  \nPraise for Collaborative Advantage\, Paul’s new book: \n  \n‘A valuable contribution to the vital task of getting people to see the business world as a complex\, interconnected ecosystem rather than as a sharp-elbowed race to the bottom.’ \nRory Sutherland \nVice-Chairman of Ogilvy Group \n  \n‘A refreshing and optimistic take on the opportunities Collaborative Advantage can open up for business. Paul Skinner speaks from experience….and it shows.’ Paul George Senior Partner and Head of International Development\, PwC ‘This is a profound provocation as to the imperative of a collaborative mindset in an ever more volatile world. Paul has defined a model\, and brought it to life with a wide variety of helpful examples\, making it applicable to almost any challenge a business or brand might face.’ \nMark Evans \nChief Marketing Officer\, Direct Line Group \n  \n\n\n\n\n\n	\n	\n	\n	\n	\n		\n	\n  	\n      Paul Skinner\n      Paul Skinner is the author of Collaborative Advantage: How collaboration beats competition as a strategy for success\, which will be published by Little\, Brown Book Group in June 2018. He is the founder of the Agency of the Future\, which helps clients and partners create Collaborative Advantage to drive organisational success\, create economic value and improve peoples’ lives.
URL:https://philoma.org/evenement/collaborative-advantage-how-to-put-it-in-place-in-your-own-organization-with-paul-skinner/
LOCATION:Maison ND du Chant d’Oiseau\, 3A\, Avenue des Franciscains\, Woluwé-Saint-Pierre (Bruxelles)\, 1150\, Belgique
CATEGORIES:PhiloMa,séminaire
END:VEVENT
END:VCALENDAR