BEGIN:VCALENDAR
VERSION:2.0
PRODID:-//Philosophie et Management - ECPv6.9.1//NONSGML v1.0//EN
CALSCALE:GREGORIAN
METHOD:PUBLISH
X-WR-CALNAME:Philosophie et Management
X-ORIGINAL-URL:https://philoma.org
X-WR-CALDESC:Évènements pour Philosophie et Management
REFRESH-INTERVAL;VALUE=DURATION:PT1H
X-Robots-Tag:noindex
X-PUBLISHED-TTL:PT1H
BEGIN:VTIMEZONE
TZID:Europe/Brussels
BEGIN:DAYLIGHT
TZOFFSETFROM:+0100
TZOFFSETTO:+0200
TZNAME:CEST
DTSTART:20190331T010000
END:DAYLIGHT
BEGIN:STANDARD
TZOFFSETFROM:+0200
TZOFFSETTO:+0100
TZNAME:CET
DTSTART:20191027T010000
END:STANDARD
END:VTIMEZONE
BEGIN:VEVENT
DTSTART;TZID=Europe/Brussels:20190214T193000
DTEND;TZID=Europe/Brussels:20190214T213000
DTSTAMP:20260419T233611
CREATED:20190214T153902Z
LAST-MODIFIED:20190322T170800Z
UID:34592-1550172600-1550179800@philoma.org
SUMMARY:Frédéric Lenoir - Entrepreneuriat et philosophie: un antagonisme ? Conférence SEVE Belgium et Silversquare
DESCRIPTION:Le sociologue\, philosophe et écrivain Frédéric Lenoir nous partagera sa vision sur des sujets touchant au plus près les entrepreneurs de demain. Les transformations profondes de l’économie induisent\, outre une très nette recrudescence de l’entrepreneuriat\, des questions d’ordre philosophique relatives au rôle\, notamment sociétal et environnemental\, de l’entreprise. \nComment l’entrepreneur\, amené à agir dans l’urgence permanente\, à prendre des risques et à s’exposer aux conflits\, peut-il prendre le recul nécessaire pour répondre à ces questions ? \nExiste-t-il des outils qui peuvent l’aider à intégrer une démarche philosophique dans son entreprise ? \nDESCRIPTION\nC’est une évidence\, l’économie est en pleine transformation\, avec un grand nombre de nouveaux métiers\, de nouvelles formes d’organisations et méthodes de travail et une très nette recrudescence de l’entrepreneuriat. L’entreprise d’aujourd’hui doit intégrer toutes ces nouvelles dimensions dans les premières années de sa vie\, en plus de se développer commercialement. \nTous ces changements\, et ceux du monde en général\, induisent également des questions d’ordre philosophique relatives au rôle\, notamment sociétal et environnemental\, de l’entreprise. Or\, l’entrepreneur est amené à agir dans l’urgence permanente\, à prendre des risques et à s’exposer aux conflits\, ce qui semble antagoniste par rapport à la démarche de recherche de sagesse et d’amour de la philosophie. \nComment dès lors l’entrepreneur peut-il prendre le recul nécessaire pour répondre à ces questions? Existe-t-il des outils qui peuvent l’aider à intégrer une démarche philosophique dans son entreprise? \nDurant cette soirée\, le sociologue\, philosophe et écrivain Frédéric Lenoir (également cofondateur de l’Association SEVE dont SEVE Belgium www.sevebelgium.org est l’antenne belge) nous partagera sa vision sur ces sujets touchant de près les entrepreneurs de demain. \n> la conférence sera suivie d’une séance de dédicace. \nL’ensemble des revenus de la soirée seront reversés à l’association SEVE Belgium. \nInformation et inscription \n  \nDATE ET HEURE\n\njeu. 14 février 2019 \n19:30 – 21:30 heure : Belgique \nAjouter au calendrier \n\n\nADRESSE\n\nSilversquare Triomphe \n15-23 Avenue Arnaud Fraiteur \n1050 Bruxelles \nAfficher la carte
URL:https://philoma.org/evenement/frederic-lenoir-entrepreneuriat-et-philosophie-un-antagonisme-conference-seve-belgium-et-silversquare/
LOCATION:Silversquare Triomphe\, 15-23 Avenue Arnaud Fraiteur\, Bruxelles\, 1050\, Belgique
CATEGORIES:partenaires
END:VEVENT
END:VCALENDAR